BEGIN:VCALENDAR
VERSION:2.0
PRODID:-//The Neal Taylor Nature Center at Cachuma Lake - ECPv6.15.20//NONSGML v1.0//EN
CALSCALE:GREGORIAN
METHOD:PUBLISH
X-WR-CALNAME:The Neal Taylor Nature Center at Cachuma Lake
X-ORIGINAL-URL:https://www.clnaturecenter.org
X-WR-CALDESC:Events for The Neal Taylor Nature Center at Cachuma Lake
REFRESH-INTERVAL;VALUE=DURATION:PT1H
X-Robots-Tag:noindex
X-PUBLISHED-TTL:PT1H
BEGIN:VTIMEZONE
TZID:America/Denver
BEGIN:DAYLIGHT
TZOFFSETFROM:-0700
TZOFFSETTO:-0600
TZNAME:MDT
DTSTART:20240310T090000
END:DAYLIGHT
BEGIN:STANDARD
TZOFFSETFROM:-0600
TZOFFSETTO:-0700
TZNAME:MST
DTSTART:20241103T080000
END:STANDARD
BEGIN:DAYLIGHT
TZOFFSETFROM:-0700
TZOFFSETTO:-0600
TZNAME:MDT
DTSTART:20250309T090000
END:DAYLIGHT
BEGIN:STANDARD
TZOFFSETFROM:-0600
TZOFFSETTO:-0700
TZNAME:MST
DTSTART:20251102T080000
END:STANDARD
BEGIN:DAYLIGHT
TZOFFSETFROM:-0700
TZOFFSETTO:-0600
TZNAME:MDT
DTSTART:20260308T090000
END:DAYLIGHT
BEGIN:STANDARD
TZOFFSETFROM:-0600
TZOFFSETTO:-0700
TZNAME:MST
DTSTART:20261101T080000
END:STANDARD
END:VTIMEZONE
BEGIN:VEVENT
DTSTART;TZID=America/Denver:20250801T195500
DTEND;TZID=America/Denver:20250801T195500
DTSTAMP:20260424T222417
CREATED:20250717T231226Z
LAST-MODIFIED:20250717T231242Z
UID:246958-1754078100-1754078100@www.clnaturecenter.org
SUMMARY:Going Batty
DESCRIPTION:A Living Exhibit!\n\nFriday & Saturday evenings at dusk Memorial Day weekend through Labor Day weekend \nADMISSION: Donation \n*Program times vary by week depending on the time of sunset* \n\n  \n\nMeet at the front entrance of the Nature Center. \nGoing Batty consists of a weekly talk and observation of local bats during May – August each year. We have two bat boxes where bats live at the nature center. These are wild bats—we never feed or touch the animals. \nGuests of Cachuma Lake Recreation Area are welcome to visit our bat boxes at any time during their visit\, although they typically only come out about 30 minutes after sunset\, and are mostly active here during the warmer months. \nThis is a living exhibit! Please do not disturb the bats with lights or loud noises. \nKeep a 10-15ft distance from bat boxes at all times. \nIncludes a Docent led talk and Q&A. \nAfter learning about the local bats\, we’ll move to the Native Garden to watch as the bats drop out of the bat boxes to feed. \nAdmission:  Donation \n\n\nClick here for more information about this program
URL:https://www.clnaturecenter.org/event/going-batty-39/
CATEGORIES:Going Batty
ATTACH;FMTTYPE=image/jpeg:https://www.clnaturecenter.org/wp-content/uploads/2023/07/Going-Batty-Event.jpg
END:VEVENT
BEGIN:VEVENT
DTSTART;TZID=America/Denver:20250802T195500
DTEND;TZID=America/Denver:20250802T205500
DTSTAMP:20260424T222417
CREATED:20240627T195052Z
LAST-MODIFIED:20250717T231025Z
UID:245829-1754164500-1754168100@www.clnaturecenter.org
SUMMARY:Going Batty
DESCRIPTION:A Living Exhibit!\n\nFriday & Saturday evenings at dusk Memorial Day weekend through Labor Day weekend \nADMISSION: Donation \n*Program times vary by week depending on the time of sunset* \n\n  \n\nMeet at the front entrance of the Nature Center. \nGoing Batty consists of a weekly talk and observation of local bats during May – August each year. We have two bat boxes where bats live at the nature center. These are wild bats—we never feed or touch the animals. \nGuests of Cachuma Lake Recreation Area are welcome to visit our bat boxes at any time during their visit\, although they typically only come out about 30 minutes after sunset\, and are mostly active here during the warmer months. \nThis is a living exhibit! Please do not disturb the bats with lights or loud noises. \nKeep a 10-15ft distance from bat boxes at all times. \nIncludes a Docent led talk and Q&A. \nAfter learning about the local bats\, we’ll move to the Native Garden to watch as the bats drop out of the bat boxes to feed. \nAdmission:  Donation \n\n\nClick here for more information about this program
URL:https://www.clnaturecenter.org/event/going-batty-13/
CATEGORIES:Going Batty
ATTACH;FMTTYPE=image/jpeg:https://www.clnaturecenter.org/wp-content/uploads/2023/07/Going-Batty-Event.jpg
END:VEVENT
BEGIN:VEVENT
DTSTART;TZID=America/Denver:20250807T194500
DTEND;TZID=America/Denver:20250807T204500
DTSTAMP:20260424T222417
CREATED:20250717T230952Z
LAST-MODIFIED:20250717T230952Z
UID:246956-1754595900-1754599500@www.clnaturecenter.org
SUMMARY:Going Batty
DESCRIPTION:A Living Exhibit!\n\nFriday & Saturday evenings at dusk Memorial Day weekend through Labor Day weekend \nADMISSION: Donation \n*Program times vary by week depending on the time of sunset* \n\n  \n\nMeet at the front entrance of the Nature Center. \nGoing Batty consists of a weekly talk and observation of local bats during May – August each year. We have two bat boxes where bats live at the nature center. These are wild bats—we never feed or touch the animals. \nGuests of Cachuma Lake Recreation Area are welcome to visit our bat boxes at any time during their visit\, although they typically only come out about 30 minutes after sunset\, and are mostly active here during the warmer months. \nThis is a living exhibit! Please do not disturb the bats with lights or loud noises. \nKeep a 10-15ft distance from bat boxes at all times. \nIncludes a Docent led talk and Q&A. \nAfter learning about the local bats\, we’ll move to the Native Garden to watch as the bats drop out of the bat boxes to feed. \nAdmission:  Donation \n\n\nClick here for more information about this program
URL:https://www.clnaturecenter.org/event/going-batty-38/
CATEGORIES:Going Batty
ATTACH;FMTTYPE=image/jpeg:https://www.clnaturecenter.org/wp-content/uploads/2024/05/mexican-free-tailed-bat.jpg
END:VEVENT
BEGIN:VEVENT
DTSTART;TZID=America/Denver:20250808T194500
DTEND;TZID=America/Denver:20250808T204500
DTSTAMP:20260424T222417
CREATED:20240515T183626Z
LAST-MODIFIED:20250717T230836Z
UID:245542-1754682300-1754685900@www.clnaturecenter.org
SUMMARY:Going Batty
DESCRIPTION:A Living Exhibit!\n\nFriday & Saturday evenings at dusk Memorial Day weekend through Labor Day weekend \nADMISSION: Donation \n*Program times vary by week depending on the time of sunset* \n\n  \n\nMeet at the front entrance of the Nature Center. \nGoing Batty consists of a weekly talk and observation of local bats during May – August each year. We have two bat boxes where bats live at the nature center. These are wild bats—we never feed or touch the animals. \nGuests of Cachuma Lake Recreation Area are welcome to visit our bat boxes at any time during their visit\, although they typically only come out about 30 minutes after sunset\, and are mostly active here during the warmer months. \nThis is a living exhibit! Please do not disturb the bats with lights or loud noises. \nKeep a 10-15ft distance from bat boxes at all times. \nIncludes a Docent led talk and Q&A. \nAfter learning about the local bats\, we’ll move to the Native Garden to watch as the bats drop out of the bat boxes to feed. \nAdmission:  Donation \n\n\nClick here for more information about this program
URL:https://www.clnaturecenter.org/event/going-batty-3/
CATEGORIES:Going Batty
ATTACH;FMTTYPE=image/jpeg:https://www.clnaturecenter.org/wp-content/uploads/2024/05/mexican-free-tailed-bat.jpg
END:VEVENT
BEGIN:VEVENT
DTSTART;TZID=America/Denver:20250809T194500
DTEND;TZID=America/Denver:20250809T204500
DTSTAMP:20260424T222417
CREATED:20240627T195243Z
LAST-MODIFIED:20250717T230855Z
UID:245831-1754768700-1754772300@www.clnaturecenter.org
SUMMARY:Going Batty
DESCRIPTION:A Living Exhibit!\n\nFriday & Saturday evenings at dusk Memorial Day weekend through Labor Day weekend \nADMISSION: Donation \n*Program times vary by week depending on the time of sunset* \n\n  \n\nMeet at the front entrance of the Nature Center. \nGoing Batty consists of a weekly talk and observation of local bats during May – August each year. We have two bat boxes where bats live at the nature center. These are wild bats—we never feed or touch the animals. \nGuests of Cachuma Lake Recreation Area are welcome to visit our bat boxes at any time during their visit\, although they typically only come out about 30 minutes after sunset\, and are mostly active here during the warmer months. \nThis is a living exhibit! Please do not disturb the bats with lights or loud noises. \nKeep a 10-15ft distance from bat boxes at all times. \nIncludes a Docent led talk and Q&A. \nAfter learning about the local bats\, we’ll move to the Native Garden to watch as the bats drop out of the bat boxes to feed. \nAdmission:  Donation \n\n\nClick here for more information about this program
URL:https://www.clnaturecenter.org/event/going-batty-14/
CATEGORIES:Going Batty
ATTACH;FMTTYPE=image/jpeg:https://www.clnaturecenter.org/wp-content/uploads/2024/05/mexican-free-tailed-bat.jpg
END:VEVENT
BEGIN:VEVENT
DTSTART;TZID=America/Denver:20250814T194000
DTEND;TZID=America/Denver:20250814T204000
DTSTAMP:20260424T222417
CREATED:20250717T230528Z
LAST-MODIFIED:20250717T230528Z
UID:246953-1755200400-1755204000@www.clnaturecenter.org
SUMMARY:Going Batty
DESCRIPTION:A Living Exhibit!\n\nFriday & Saturday evenings at dusk Memorial Day weekend through Labor Day weekend \nADMISSION: Donation \n*Program times vary by week depending on the time of sunset* \n\n  \n\nMeet at the front entrance of the Nature Center. \nGoing Batty consists of a weekly talk and observation of local bats during May – August each year. We have two bat boxes where bats live at the nature center. These are wild bats—we never feed or touch the animals. \nGuests of Cachuma Lake Recreation Area are welcome to visit our bat boxes at any time during their visit\, although they typically only come out about 30 minutes after sunset\, and are mostly active here during the warmer months. \nThis is a living exhibit! Please do not disturb the bats with lights or loud noises. \nKeep a 10-15ft distance from bat boxes at all times. \nIncludes a Docent led talk and Q&A. \nAfter learning about the local bats\, we’ll move to the Native Garden to watch as the bats drop out of the bat boxes to feed. \nAdmission:  Donation \n\n\nClick here for more information about this program
URL:https://www.clnaturecenter.org/event/going-batty-37/
CATEGORIES:Going Batty
ATTACH;FMTTYPE=image/jpeg:https://www.clnaturecenter.org/wp-content/uploads/2023/07/Header-Images-for-website-2000x1200-300kb-.jpg
END:VEVENT
BEGIN:VEVENT
DTSTART;TZID=America/Denver:20250815T194000
DTEND;TZID=America/Denver:20250815T203000
DTSTAMP:20260424T222417
CREATED:20240515T183337Z
LAST-MODIFIED:20250717T230437Z
UID:245538-1755286800-1755289800@www.clnaturecenter.org
SUMMARY:Going Batty
DESCRIPTION:A Living Exhibit!\n\nFriday & Saturday evenings at dusk Memorial Day weekend through Labor Day weekend \nADMISSION: Donation \n*Program times vary by week depending on the time of sunset* \n\n  \n\nMeet at the front entrance of the Nature Center. \nGoing Batty consists of a weekly talk and observation of local bats during May – August each year. We have two bat boxes where bats live at the nature center. These are wild bats—we never feed or touch the animals. \nGuests of Cachuma Lake Recreation Area are welcome to visit our bat boxes at any time during their visit\, although they typically only come out about 30 minutes after sunset\, and are mostly active here during the warmer months. \nThis is a living exhibit! Please do not disturb the bats with lights or loud noises. \nKeep a 10-15ft distance from bat boxes at all times. \nIncludes a Docent led talk and Q&A. \nAfter learning about the local bats\, we’ll move to the Native Garden to watch as the bats drop out of the bat boxes to feed. \nAdmission:  Donation \n\n\nClick here for more information about this program
URL:https://www.clnaturecenter.org/event/going-batty/
CATEGORIES:Going Batty
ATTACH;FMTTYPE=image/jpeg:https://www.clnaturecenter.org/wp-content/uploads/2023/07/Header-Images-for-website-2000x1200-300kb-.jpg
END:VEVENT
BEGIN:VEVENT
DTSTART;TZID=America/Denver:20250816T194000
DTEND;TZID=America/Denver:20250816T204000
DTSTAMP:20260424T222417
CREATED:20240627T195348Z
LAST-MODIFIED:20250717T231033Z
UID:245833-1755373200-1755376800@www.clnaturecenter.org
SUMMARY:Going Batty
DESCRIPTION:A Living Exhibit!\n\nFriday & Saturday evenings at dusk Memorial Day weekend through Labor Day weekend \nADMISSION: Donation \n*Program times vary by week depending on the time of sunset* \n\n  \n\nMeet at the front entrance of the Nature Center. \nGoing Batty consists of a weekly talk and observation of local bats during May – August each year. We have two bat boxes where bats live at the nature center. These are wild bats—we never feed or touch the animals. \nGuests of Cachuma Lake Recreation Area are welcome to visit our bat boxes at any time during their visit\, although they typically only come out about 30 minutes after sunset\, and are mostly active here during the warmer months. \nThis is a living exhibit! Please do not disturb the bats with lights or loud noises. \nKeep a 10-15ft distance from bat boxes at all times. \nIncludes a Docent led talk and Q&A. \nAfter learning about the local bats\, we’ll move to the Native Garden to watch as the bats drop out of the bat boxes to feed. \nAdmission:  Donation \n\n\nClick here for more information about this program
URL:https://www.clnaturecenter.org/event/going-batty-15/
CATEGORIES:Going Batty
ATTACH;FMTTYPE=image/jpeg:https://www.clnaturecenter.org/wp-content/uploads/2023/07/Header-Images-for-website-2000x1200-300kb-.jpg
END:VEVENT
BEGIN:VEVENT
DTSTART;TZID=America/Denver:20250821T193000
DTEND;TZID=America/Denver:20250821T203000
DTSTAMP:20260424T222417
CREATED:20250717T230358Z
LAST-MODIFIED:20250717T230358Z
UID:246951-1755804600-1755808200@www.clnaturecenter.org
SUMMARY:Going Batty
DESCRIPTION:A Living Exhibit!\n\nFriday & Saturday evenings at dusk Memorial Day weekend through Labor Day weekend \nADMISSION: Donation \n*Program times vary by week depending on the time of sunset* \n\n  \n\nMeet at the front entrance of the Nature Center. \nGoing Batty consists of a weekly talk and observation of local bats during May – August each year. We have two bat boxes where bats live at the nature center. These are wild bats—we never feed or touch the animals. \nGuests of Cachuma Lake Recreation Area are welcome to visit our bat boxes at any time during their visit\, although they typically only come out about 30 minutes after sunset\, and are mostly active here during the warmer months. \nThis is a living exhibit! Please do not disturb the bats with lights or loud noises. \nKeep a 10-15ft distance from bat boxes at all times. \nIncludes a Docent led talk and Q&A. \nAfter learning about the local bats\, we’ll move to the Native Garden to watch as the bats drop out of the bat boxes to feed. \nAdmission:  Donation \n\n\nClick here for more information about this program
URL:https://www.clnaturecenter.org/event/going-batty-36/
CATEGORIES:Going Batty
END:VEVENT
BEGIN:VEVENT
DTSTART;TZID=America/Denver:20250822T193000
DTEND;TZID=America/Denver:20250822T203000
DTSTAMP:20260424T222417
CREATED:20240515T183536Z
LAST-MODIFIED:20250717T230113Z
UID:245540-1755891000-1755894600@www.clnaturecenter.org
SUMMARY:Going Batty
DESCRIPTION:A Living Exhibit!\n\nFriday & Saturday evenings at dusk Memorial Day weekend through Labor Day weekend \nADMISSION: Donation \n*Program times vary by week depending on the time of sunset* \n\n  \n\nMeet at the front entrance of the Nature Center. \nGoing Batty consists of a weekly talk and observation of local bats during May – August each year. We have two bat boxes where bats live at the nature center. These are wild bats—we never feed or touch the animals. \nGuests of Cachuma Lake Recreation Area are welcome to visit our bat boxes at any time during their visit\, although they typically only come out about 30 minutes after sunset\, and are mostly active here during the warmer months. \nThis is a living exhibit! Please do not disturb the bats with lights or loud noises. \nKeep a 10-15ft distance from bat boxes at all times. \nIncludes a Docent led talk and Q&A. \nAfter learning about the local bats\, we’ll move to the Native Garden to watch as the bats drop out of the bat boxes to feed. \nAdmission:  Donation \n\n\nClick here for more information about this program
URL:https://www.clnaturecenter.org/event/going-batty-2/
CATEGORIES:Going Batty
ATTACH;FMTTYPE=image/jpeg:https://www.clnaturecenter.org/wp-content/uploads/2023/07/Going-Batty-Event.jpg
END:VEVENT
BEGIN:VEVENT
DTSTART;TZID=America/Denver:20250823T193000
DTEND;TZID=America/Denver:20250823T203000
DTSTAMP:20260424T222417
CREATED:20240515T183830Z
LAST-MODIFIED:20250717T230055Z
UID:245544-1755977400-1755981000@www.clnaturecenter.org
SUMMARY:Going Batty
DESCRIPTION:A Living Exhibit!\n\nFriday & Saturday evenings at dusk Memorial Day weekend through Labor Day weekend \nADMISSION: Donation \n*Program times vary by week depending on the time of sunset* \n\n  \n\nMeet at the front entrance of the Nature Center. \nGoing Batty consists of a weekly talk and observation of local bats during May – August each year. We have two bat boxes where bats live at the nature center. These are wild bats—we never feed or touch the animals. \nGuests of Cachuma Lake Recreation Area are welcome to visit our bat boxes at any time during their visit\, although they typically only come out about 30 minutes after sunset\, and are mostly active here during the warmer months. \nThis is a living exhibit! Please do not disturb the bats with lights or loud noises. \nKeep a 10-15ft distance from bat boxes at all times. \nIncludes a Docent led talk and Q&A. \nAfter learning about the local bats\, we’ll move to the Native Garden to watch as the bats drop out of the bat boxes to feed. \nAdmission:  Donation \n\n\nClick here for more information about this program
URL:https://www.clnaturecenter.org/event/going-batty-4/
CATEGORIES:Going Batty
ATTACH;FMTTYPE=image/jpeg:https://www.clnaturecenter.org/wp-content/uploads/2023/07/Going-Batty-Event.jpg
END:VEVENT
BEGIN:VEVENT
DTSTART;TZID=America/Denver:20250828T192000
DTEND;TZID=America/Denver:20250828T192000
DTSTAMP:20260424T222417
CREATED:20250717T225953Z
LAST-MODIFIED:20250717T230028Z
UID:246949-1756408800-1756408800@www.clnaturecenter.org
SUMMARY:Going Batty
DESCRIPTION:A Living Exhibit!\n\nFriday & Saturday evenings at dusk Memorial Day weekend through Labor Day weekend \nADMISSION: Donation \n*Program times vary by week depending on the time of sunset* \n\n  \n\nMeet at the front entrance of the Nature Center. \nGoing Batty consists of a weekly talk and observation of local bats during May – August each year. We have two bat boxes where bats live at the nature center. These are wild bats—we never feed or touch the animals. \nGuests of Cachuma Lake Recreation Area are welcome to visit our bat boxes at any time during their visit\, although they typically only come out about 30 minutes after sunset\, and are mostly active here during the warmer months. \nThis is a living exhibit! Please do not disturb the bats with lights or loud noises. \nKeep a 10-15ft distance from bat boxes at all times. \nIncludes a Docent led talk and Q&A. \nAfter learning about the local bats\, we’ll move to the Native Garden to watch as the bats drop out of the bat boxes to feed. \nAdmission:  Donation \n\n\nClick here for more information about this program
URL:https://www.clnaturecenter.org/event/going-batty-35/
CATEGORIES:Going Batty
ATTACH;FMTTYPE=image/jpeg:https://www.clnaturecenter.org/wp-content/uploads/2023/07/Going-Batty-Event.jpg
END:VEVENT
BEGIN:VEVENT
DTSTART;TZID=America/Denver:20250829T192000
DTEND;TZID=America/Denver:20250829T202000
DTSTAMP:20260424T222417
CREATED:20240523T204942Z
LAST-MODIFIED:20250717T225910Z
UID:245582-1756495200-1756498800@www.clnaturecenter.org
SUMMARY:Going Batty
DESCRIPTION:A Living Exhibit!\n\nFriday & Saturday evenings at dusk Memorial Day weekend through Labor Day weekend \nADMISSION: Donation \n*Program times vary by week depending on the time of sunset* \n\n  \n\nMeet at the front entrance of the Nature Center. \nGoing Batty consists of a weekly talk and observation of local bats during May – August each year. We have two bat boxes where bats live at the nature center. These are wild bats—we never feed or touch the animals. \nGuests of Cachuma Lake Recreation Area are welcome to visit our bat boxes at any time during their visit\, although they typically only come out about 30 minutes after sunset\, and are mostly active here during the warmer months. \nThis is a living exhibit! Please do not disturb the bats with lights or loud noises. \nKeep a 10-15ft distance from bat boxes at all times. \nIncludes a Docent led talk and Q&A. \nAfter learning about the local bats\, we’ll move to the Native Garden to watch as the bats drop out of the bat boxes to feed. \nAdmission:  Donation \n\n\nClick here for more information about this program
URL:https://www.clnaturecenter.org/event/going-batty-6/
CATEGORIES:Going Batty
ATTACH;FMTTYPE=image/jpeg:https://www.clnaturecenter.org/wp-content/uploads/2023/07/Going-Batty-Event.jpg
END:VEVENT
BEGIN:VEVENT
DTSTART;TZID=America/Denver:20250830T192000
DTEND;TZID=America/Denver:20250830T202000
DTSTAMP:20260424T222417
CREATED:20240523T204800Z
LAST-MODIFIED:20250717T231136Z
UID:245580-1756581600-1756585200@www.clnaturecenter.org
SUMMARY:Going Batty
DESCRIPTION:A Living Exhibit!\n\nFriday & Saturday evenings at dusk Memorial Day weekend through Labor Day weekend \nADMISSION: Donation \n*Program times vary by week depending on the time of sunset* \n\n  \n\nMeet at the front entrance of the Nature Center. \nGoing Batty consists of a weekly talk and observation of local bats during May – August each year. We have two bat boxes where bats live at the nature center. These are wild bats—we never feed or touch the animals. \nGuests of Cachuma Lake Recreation Area are welcome to visit our bat boxes at any time during their visit\, although they typically only come out about 30 minutes after sunset\, and are mostly active here during the warmer months. \nThis is a living exhibit! Please do not disturb the bats with lights or loud noises. \nKeep a 10-15ft distance from bat boxes at all times. \nIncludes a Docent led talk and Q&A. \nAfter learning about the local bats\, we’ll move to the Native Garden to watch as the bats drop out of the bat boxes to feed. \nAdmission:  Donation \n\n\nClick here for more information about this program
URL:https://www.clnaturecenter.org/event/going-batty-5/
CATEGORIES:Going Batty
ATTACH;FMTTYPE=image/jpeg:https://www.clnaturecenter.org/wp-content/uploads/2023/07/Going-Batty-Event.jpg
END:VEVENT
END:VCALENDAR