BEGIN:VCALENDAR
VERSION:2.0
PRODID:-//The Neal Taylor Nature Center at Cachuma Lake - ECPv6.15.20//NONSGML v1.0//EN
CALSCALE:GREGORIAN
METHOD:PUBLISH
X-WR-CALNAME:The Neal Taylor Nature Center at Cachuma Lake
X-ORIGINAL-URL:https://www.clnaturecenter.org
X-WR-CALDESC:Events for The Neal Taylor Nature Center at Cachuma Lake
REFRESH-INTERVAL;VALUE=DURATION:PT1H
X-Robots-Tag:noindex
X-PUBLISHED-TTL:PT1H
BEGIN:VTIMEZONE
TZID:America/Denver
BEGIN:DAYLIGHT
TZOFFSETFROM:-0700
TZOFFSETTO:-0600
TZNAME:MDT
DTSTART:20220313T090000
END:DAYLIGHT
BEGIN:STANDARD
TZOFFSETFROM:-0600
TZOFFSETTO:-0700
TZNAME:MST
DTSTART:20221106T080000
END:STANDARD
BEGIN:DAYLIGHT
TZOFFSETFROM:-0700
TZOFFSETTO:-0600
TZNAME:MDT
DTSTART:20230312T090000
END:DAYLIGHT
BEGIN:STANDARD
TZOFFSETFROM:-0600
TZOFFSETTO:-0700
TZNAME:MST
DTSTART:20231105T080000
END:STANDARD
BEGIN:DAYLIGHT
TZOFFSETFROM:-0700
TZOFFSETTO:-0600
TZNAME:MDT
DTSTART:20240310T090000
END:DAYLIGHT
BEGIN:STANDARD
TZOFFSETFROM:-0600
TZOFFSETTO:-0700
TZNAME:MST
DTSTART:20241103T080000
END:STANDARD
BEGIN:DAYLIGHT
TZOFFSETFROM:-0700
TZOFFSETTO:-0600
TZNAME:MDT
DTSTART:20250309T090000
END:DAYLIGHT
BEGIN:STANDARD
TZOFFSETFROM:-0600
TZOFFSETTO:-0700
TZNAME:MST
DTSTART:20251102T080000
END:STANDARD
END:VTIMEZONE
BEGIN:VTIMEZONE
TZID:UTC
BEGIN:STANDARD
TZOFFSETFROM:+0000
TZOFFSETTO:+0000
TZNAME:UTC
DTSTART:20220101T000000
END:STANDARD
END:VTIMEZONE
BEGIN:VEVENT
DTSTART;TZID=America/Denver:20241218T173000
DTEND;TZID=America/Denver:20241218T193000
DTSTAMP:20260425T085009
CREATED:20241213T221440Z
LAST-MODIFIED:20241213T221751Z
UID:246597-1734543000-1734550200@www.clnaturecenter.org
SUMMARY:Holiday Gathering
DESCRIPTION:Let’s celebrate together! \nNeal Taylor Nature Center\nHoliday Gathering\nDecember 18th\, 5:30 – 7:30pm \n2265 Hwy 154\, Santa Barbara\, CA 93105 \nALL AGES WELCOME\nJOIN US FOR:\n\nhot apple cider\, eggnog and treats\nholiday music\nornament making\ntree decorating\nspecial holiday scavenger hunts for all ages (with prizes!)\n\nRSVP: email info@clnaturecenter.org with number of people you’re coming with by Tuesday\, December 17th
URL:https://www.clnaturecenter.org/event/holiday-gathering/
ATTACH;FMTTYPE=image/jpeg:https://www.clnaturecenter.org/wp-content/uploads/2024/12/holiday-gathering-e1734045281664.jpg
END:VEVENT
BEGIN:VEVENT
DTSTART;TZID=America/Denver:20241129T130000
DTEND;TZID=America/Denver:20241129T150000
DTSTAMP:20260425T085009
CREATED:20240826T195853Z
LAST-MODIFIED:20241113T223727Z
UID:246203-1732885200-1732892400@www.clnaturecenter.org
SUMMARY:Arts & Crafts
DESCRIPTION:Come by the Nature Center and make some nature-themed crafts! \nOpen to all ages. \nAdmission: $2 per person \nMeet at the picnic tables in front of the Nature Center.
URL:https://www.clnaturecenter.org/event/arts-crafts/
ATTACH;FMTTYPE=image/jpeg:https://www.clnaturecenter.org/wp-content/uploads/2024/07/arts-crafts-kids-youth-fish-derby.jpg
END:VEVENT
BEGIN:VEVENT
DTSTART;TZID=America/Denver:20241129T100000
DTEND;TZID=America/Denver:20241129T140000
DTSTAMP:20260425T085009
CREATED:20240826T195956Z
LAST-MODIFIED:20241113T223715Z
UID:246207-1732874400-1732888800@www.clnaturecenter.org
SUMMARY:Books & Treasures Sale
DESCRIPTION:Come to our garage sale and browse through a wide selection of books\, toys\, knick-knacks and household items! All proceeds support the Neal Taylor Nature Center\, a 501(c)(3) nonprofit organization. \n 
URL:https://www.clnaturecenter.org/event/books-treasures-sale-2/
ATTACH;FMTTYPE=image/jpeg:https://www.clnaturecenter.org/wp-content/uploads/2023/07/book-sale-event-photo-royalty-free-canva.jpg
END:VEVENT
BEGIN:VEVENT
DTSTART;TZID=America/Denver:20240704T100000
DTEND;TZID=America/Denver:20240704T140000
DTSTAMP:20260425T085009
CREATED:20240627T183502Z
LAST-MODIFIED:20240627T183544Z
UID:245799-1720087200-1720101600@www.clnaturecenter.org
SUMMARY:Books & Treasures Sale
DESCRIPTION:Come to our garage sale and browse through a wide selection of books\, toys\, knick-knacks and household items! All proceeds support the Neal Taylor Nature Center\, a 501(c)(3) nonprofit organization. \n 
URL:https://www.clnaturecenter.org/event/4th-of-july-books-treasures-sale/
ATTACH;FMTTYPE=image/jpeg:https://www.clnaturecenter.org/wp-content/uploads/2023/07/book-sale-event-photo-royalty-free-canva.jpg
END:VEVENT
BEGIN:VEVENT
DTSTART;VALUE=DATE:20240420
DTEND;VALUE=DATE:20240422
DTSTAMP:20260425T085009
CREATED:20230728T025037Z
LAST-MODIFIED:20250501T180256Z
UID:243103-1713571200-1713743999@www.clnaturecenter.org
SUMMARY:Fish Derby
DESCRIPTION:The Fish Derby is a two-day annual fishing event held on Saturday and Sunday in April. To participate in the Fish Derby\, registration is required before or during the event. Cash prizes are awarded for different categories of fish caught in Cachuma Lake\, and merchandise prizes are distributed throughout the event. \nParticipants of all ages are welcome\, and there is a fee required for participation.  \nMore information and a downloadable registration form can be found at www.TroutDerby.org.
URL:https://www.clnaturecenter.org/event/fish-derby-2024/
LOCATION:Cachuma Lake Recreation Area
ATTACH;FMTTYPE=image/jpeg:https://www.clnaturecenter.org/wp-content/uploads/2023/07/fish-derby-winners-2023.jpg
END:VEVENT
BEGIN:VEVENT
DTSTART;VALUE=DATE:20240201
DTEND;VALUE=DATE:20240313
DTSTAMP:20260425T085009
CREATED:20230731T014454Z
LAST-MODIFIED:20240330T045730Z
UID:243203-1706745600-1710287999@www.clnaturecenter.org
SUMMARY:Trout in the Classroom
DESCRIPTION:Admission:  Donation \nThe Neal Taylor Nature Center “Trout in the Classroom” is a program designed to allow visitors\, including local school children on field trips\, to experience raising trout in an up-close\, first-hand environment. \nVisitors can observe raising trout from eggs to fry and Nature Center volunteers are on hand to answer questions. The result is an aquarium full of trout fry\, each over one inch in length that will eventually be released to a pre-approved site by the Department of Fish and Wildlife. \nOur January session every year spans from 2 – 4 months in length. \nThe “Trout in the Classroom” program is sponsored by The Santa Barbara Fly-fishers club.  The club has been an active Trout in the Classroom (TIC) supporter for many years and sponsors two TIC sessions per year involving many local schools on the central coast in addition to the Nature Center. \nTrout eggs are picked up from the Fillmore Hatchery and personally delivered to each participating location.  The result is an aquarium full of trout fry that are released into a state-approved body of water. \nThis program’s goal is to reconnect an increasingly urbanized population of youth to the system of streams\, rivers and watersheds that sustain them.  It is one of the living exhibits at the Nature Center and is a favorite. \n \nThe trout eggs have hatched! Come visit the nature center today and see them swim!! \n \nMeet Dennis\, our Nature Center volunteer who puts in the hard work of maintaining the tank and making sure our baby trout are happy! \n 
URL:https://www.clnaturecenter.org/event/trout-in-the-classroom/
ATTACH;FMTTYPE=image/jpeg:https://www.clnaturecenter.org/wp-content/uploads/2023/07/Trout-in-hand-canva-royalty-free.jpg
END:VEVENT
BEGIN:VEVENT
DTSTART;TZID=UTC:20231123T100000
DTEND;TZID=UTC:20231123T140000
DTSTAMP:20260425T085009
CREATED:20230731T013249Z
LAST-MODIFIED:20231117T033753Z
UID:243196-1700733600-1700748000@www.clnaturecenter.org
SUMMARY:Thanksgiving Book and Treasure Sale
DESCRIPTION:When: Thanksgiving Day \nTime: 10 a.m. to 2 p.m. \nWhere: The Neal Taylor Nature Center \nCome find a special book or treasure and help to support the Nature Center!
URL:https://www.clnaturecenter.org/event/books-and-treasures-sale/
ATTACH;FMTTYPE=image/jpeg:https://www.clnaturecenter.org/wp-content/uploads/2023/07/book-sale-event-photo-royalty-free-canva.jpg
END:VEVENT
BEGIN:VEVENT
DTSTART;TZID=UTC:20231021T110000
DTEND;TZID=UTC:20231021T130000
DTSTAMP:20260425T085009
CREATED:20230731T013546Z
LAST-MODIFIED:20230913T003035Z
UID:243200-1697886000-1697893200@www.clnaturecenter.org
SUMMARY:Creepy Creatures
DESCRIPTION:In celebration of Halloween\, local experts showcase live snakes\, scorpions\, spiders\, owls\, bats and more. There will also be exhibits of animal bones\, skulls\, and preserved specimens and arts and crafts activities. Witches serve popcorn and punch and there is live music too! \nCall for more information at 805-963-0691 \nAdmission:  Donation appreciated
URL:https://www.clnaturecenter.org/event/creepy-creatures/
ATTACH;FMTTYPE=image/jpeg:https://www.clnaturecenter.org/wp-content/uploads/2023/07/Desert-Tarantula-Creepy-Creatures-Event-Canva-Royalty-Free.jpg
END:VEVENT
BEGIN:VEVENT
DTSTART;TZID=America/Denver:20231001T140000
DTEND;TZID=America/Denver:20231001T160000
DTSTAMP:20260425T085009
CREATED:20230828T042549Z
LAST-MODIFIED:20230828T043010Z
UID:244116-1696168800-1696176000@www.clnaturecenter.org
SUMMARY:Food 4 Thought Lecture Series
DESCRIPTION:Sunday\, October 1\, 2023 \n2:00 PM \nBirds in Black…and Blue\nCorvids of Santa Ynez Valley \nPresented by:\nDennis and Jess Beebe \nDennis and Jess will highlight the natural history of five species of corvids found in the Santa\nYnez Valley:  American Crows\, Common Ravens\, Yellow-Billed Magpies\, California Scrub Jays\,\nand Stellar’s Jays…examining aspects of these birds that continue to fascinate us.\nLecture from 2–3pm with a meet and greet to follow Refreshments will be served. \nTo be held at the Neal Taylor Nature Center at Cachuma Lake \nAdmission: Donations Appreciated \nFor more information please email: info@clnaturecenter.org or call 805-693-0691
URL:https://www.clnaturecenter.org/event/food-4-thought-lecture-series/
ATTACH;FMTTYPE=image/jpeg:https://www.clnaturecenter.org/wp-content/uploads/2023/08/Stellars-Jay-bird-canva.jpg
END:VEVENT
END:VCALENDAR