BEGIN:VCALENDAR
VERSION:2.0
PRODID:-//The Neal Taylor Nature Center at Cachuma Lake - ECPv6.15.20//NONSGML v1.0//EN
CALSCALE:GREGORIAN
METHOD:PUBLISH
X-WR-CALNAME:The Neal Taylor Nature Center at Cachuma Lake
X-ORIGINAL-URL:https://www.clnaturecenter.org
X-WR-CALDESC:Events for The Neal Taylor Nature Center at Cachuma Lake
REFRESH-INTERVAL;VALUE=DURATION:PT1H
X-Robots-Tag:noindex
X-PUBLISHED-TTL:PT1H
BEGIN:VTIMEZONE
TZID:America/Denver
BEGIN:DAYLIGHT
TZOFFSETFROM:-0700
TZOFFSETTO:-0600
TZNAME:MDT
DTSTART:20240310T090000
END:DAYLIGHT
BEGIN:STANDARD
TZOFFSETFROM:-0600
TZOFFSETTO:-0700
TZNAME:MST
DTSTART:20241103T080000
END:STANDARD
BEGIN:DAYLIGHT
TZOFFSETFROM:-0700
TZOFFSETTO:-0600
TZNAME:MDT
DTSTART:20250309T090000
END:DAYLIGHT
BEGIN:STANDARD
TZOFFSETFROM:-0600
TZOFFSETTO:-0700
TZNAME:MST
DTSTART:20251102T080000
END:STANDARD
BEGIN:DAYLIGHT
TZOFFSETFROM:-0700
TZOFFSETTO:-0600
TZNAME:MDT
DTSTART:20260308T090000
END:DAYLIGHT
BEGIN:STANDARD
TZOFFSETFROM:-0600
TZOFFSETTO:-0700
TZNAME:MST
DTSTART:20261101T080000
END:STANDARD
END:VTIMEZONE
BEGIN:VEVENT
DTSTART;TZID=America/Denver:20250524T130000
DTEND;TZID=America/Denver:20250524T150000
DTSTAMP:20260425T042332
CREATED:20240704T200322Z
LAST-MODIFIED:20250513T233910Z
UID:245869-1748091600-1748098800@www.clnaturecenter.org
SUMMARY:Nature Themed Arts & Crafts
DESCRIPTION:Come by the Nature Center and make some nature-themed crafts! \nOpen to all ages. \nAdmission: $2 per person
URL:https://www.clnaturecenter.org/event/kids-arts-crafts/
ATTACH;FMTTYPE=image/jpeg:https://www.clnaturecenter.org/wp-content/uploads/2024/07/arts-crafts-kids-youth-fish-derby.jpg
END:VEVENT
BEGIN:VEVENT
DTSTART;TZID=America/Denver:20250524T195500
DTEND;TZID=America/Denver:20250524T205500
DTSTAMP:20260425T042332
CREATED:20250513T232751Z
LAST-MODIFIED:20250522T184059Z
UID:246854-1748116500-1748120100@www.clnaturecenter.org
SUMMARY:Going Batty
DESCRIPTION:A Living Exhibit!\n\nFriday & Saturday evenings at dusk Memorial Day weekend through Labor Day weekend \nADMISSION: Donation \n*Program times vary by week depending on the time of sunset* \n\n  \n\nMeet at the front entrance of the Nature Center. \nGoing Batty consists of a weekly talk and observation of local bats during May – August each year. We have two bat boxes where bats live at the nature center. These are wild bats—we never feed or touch the animals. \nGuests of Cachuma Lake Recreation Area are welcome to visit our bat boxes at any time during their visit\, although they typically only come out about 30 minutes after sunset\, and are mostly active here during the warmer months. \nThis is a living exhibit! Please do not disturb the bats with lights or loud noises. \nKeep a 10-15ft distance from bat boxes at all times. \nIncludes a Docent led talk and Q&A. \nAfter learning about the local bats\, we’ll move to the Native Garden to watch as the bats drop out of the bat boxes to feed. \nAdmission:  Donation \n\n\nClick here for more information about this program
URL:https://www.clnaturecenter.org/event/going-batty-16/
CATEGORIES:Going Batty
ATTACH;FMTTYPE=image/jpeg:https://www.clnaturecenter.org/wp-content/uploads/2023/07/Going-Batty-Event.jpg
END:VEVENT
END:VCALENDAR